BEGIN:VCALENDAR
VERSION:2.0
PRODID:-//Richmond Hill Golf Club - ECPv6.15.18//NONSGML v1.0//EN
CALSCALE:GREGORIAN
METHOD:PUBLISH
X-ORIGINAL-URL:https://www.richmondhillgolfclub.com
X-WR-CALDESC:Events for Richmond Hill Golf Club
REFRESH-INTERVAL;VALUE=DURATION:PT1H
X-Robots-Tag:noindex
X-PUBLISHED-TTL:PT1H
BEGIN:VTIMEZONE
TZID:UTC
BEGIN:STANDARD
TZOFFSETFROM:+0000
TZOFFSETTO:+0000
TZNAME:UTC
DTSTART:20240101T000000
END:STANDARD
END:VTIMEZONE
BEGIN:VEVENT
DTSTART;TZID=UTC:20250423T123000
DTEND;TZID=UTC:20250423T123000
DTSTAMP:20260420T041825
CREATED:20250401T200144Z
LAST-MODIFIED:20250401T200146Z
UID:10000037-1745411400-1745411400@www.richmondhillgolfclub.com
SUMMARY:2 Ball Game
DESCRIPTION:
URL:https://www.richmondhillgolfclub.com/event/2-ball-game-8/
END:VEVENT
END:VCALENDAR