BEGIN:VCALENDAR
VERSION:2.0
PRODID:-//Richmond Hill Golf Club - ECPv6.15.18//NONSGML v1.0//EN
CALSCALE:GREGORIAN
METHOD:PUBLISH
X-ORIGINAL-URL:https://www.richmondhillgolfclub.com
X-WR-CALDESC:Events for Richmond Hill Golf Club
REFRESH-INTERVAL;VALUE=DURATION:PT1H
X-Robots-Tag:noindex
X-PUBLISHED-TTL:PT1H
BEGIN:VTIMEZONE
TZID:UTC
BEGIN:STANDARD
TZOFFSETFROM:+0000
TZOFFSETTO:+0000
TZNAME:UTC
DTSTART:20240101T000000
END:STANDARD
END:VTIMEZONE
BEGIN:VEVENT
DTSTART;TZID=UTC:20250501T090000
DTEND;TZID=UTC:20250501T090000
DTSTAMP:20260421T061420
CREATED:20250401T200913Z
LAST-MODIFIED:20250401T200916Z
UID:10000051-1746090000-1746090000@www.richmondhillgolfclub.com
SUMMARY:Blitz
DESCRIPTION:Shotgun
URL:https://www.richmondhillgolfclub.com/event/blitz-14/
END:VEVENT
BEGIN:VEVENT
DTSTART;TZID=UTC:20250502T123000
DTEND;TZID=UTC:20250502T123000
DTSTAMP:20260421T061420
CREATED:20250401T201744Z
LAST-MODIFIED:20250401T201746Z
UID:10000061-1746189000-1746189000@www.richmondhillgolfclub.com
SUMMARY:Friday Game
DESCRIPTION:
URL:https://www.richmondhillgolfclub.com/event/friday-game-6/
END:VEVENT
BEGIN:VEVENT
DTSTART;TZID=UTC:20250503T000000
DTEND;TZID=UTC:20250504T235959
DTSTAMP:20260421T061420
CREATED:20250401T201205Z
LAST-MODIFIED:20250401T201207Z
UID:10000052-1746230400-1746403199@www.richmondhillgolfclub.com
SUMMARY:Member/Member Tournament
DESCRIPTION:
URL:https://www.richmondhillgolfclub.com/event/member-member-tournament/
END:VEVENT
END:VCALENDAR